BEGIN:VCALENDAR
VERSION:2.0
PRODID:-//Forma Clay - ECPv6.15.20//NONSGML v1.0//EN
CALSCALE:GREGORIAN
METHOD:PUBLISH
X-WR-CALNAME:Forma Clay
X-ORIGINAL-URL:https://formaclay.com
X-WR-CALDESC:Events for Forma Clay
REFRESH-INTERVAL;VALUE=DURATION:PT1H
X-Robots-Tag:noindex
X-PUBLISHED-TTL:PT1H
BEGIN:VTIMEZONE
TZID:America/Chicago
BEGIN:DAYLIGHT
TZOFFSETFROM:-0600
TZOFFSETTO:-0500
TZNAME:CDT
DTSTART:20250309T080000
END:DAYLIGHT
BEGIN:STANDARD
TZOFFSETFROM:-0500
TZOFFSETTO:-0600
TZNAME:CST
DTSTART:20251102T070000
END:STANDARD
BEGIN:DAYLIGHT
TZOFFSETFROM:-0600
TZOFFSETTO:-0500
TZNAME:CDT
DTSTART:20260308T080000
END:DAYLIGHT
BEGIN:STANDARD
TZOFFSETFROM:-0500
TZOFFSETTO:-0600
TZNAME:CST
DTSTART:20261101T070000
END:STANDARD
BEGIN:DAYLIGHT
TZOFFSETFROM:-0600
TZOFFSETTO:-0500
TZNAME:CDT
DTSTART:20270314T080000
END:DAYLIGHT
BEGIN:STANDARD
TZOFFSETFROM:-0500
TZOFFSETTO:-0600
TZNAME:CST
DTSTART:20271107T070000
END:STANDARD
END:VTIMEZONE
BEGIN:VEVENT
DTSTART;TZID=America/Chicago:20260425T100000
DTEND;TZID=America/Chicago:20260425T130000
DTSTAMP:20260423T092724
CREATED:20260304T233220Z
LAST-MODIFIED:20260416T130655Z
UID:361-1777111200-1777122000@formaclay.com
SUMMARY:Community Clay Day: Seeds of Joy
DESCRIPTION:Celebrate spring by handbuilding your own planter pot. In this free 1 hour mini class\, you’ll shape clay into a unique vessel to start a seedling\, adding your personal touch to spring forth into the new season. \nWe will finish and fire your planter for you\, so you can pick them up one month after the event with a special surprise (holy 🌿 basil seeds!) . No experience necessary! Everyone is welcome! \nClick to Register
URL:https://formaclay.com/event/community-clay-day-seeds-of-joy/
LOCATION:Forma\, 812 W 46th St\, Minneapolis\, Minnesota\, 55419\, United States
ATTACH;FMTTYPE=image/jpeg:https://formaclay.com/wp-content/uploads/2026/03/Copy-of-print-safe-mpls-lakes-print-ad-may-2026-4.25-x-5.5-in.jpg
ORGANIZER;CN="Forma":MAILTO:play@formaclay.com
END:VEVENT
END:VCALENDAR